BEGIN:VCALENDAR
VERSION:2.0
PRODID:-//ビバ・フローラ - ECPv4.6//NONSGML v1.0//EN
CALSCALE:GREGORIAN
METHOD:PUBLISH
X-WR-CALNAME:ビバ・フローラ
X-ORIGINAL-URL:http://viva.setagaya-hp.or.jp
X-WR-CALDESC:Events for ビバ・フローラ
BEGIN:VEVENT
DTSTART;TZID=Asia/Tokyo:20260205T093000
DTEND;TZID=Asia/Tokyo:20260205T130000
DTSTAMP:20260421T185856
CREATED:20250714T064004Z
LAST-MODIFIED:20250714T064315Z
UID:12360-1770283800-1770296400@viva.setagaya-hp.or.jp
SUMMARY:散髪✂
DESCRIPTION:
URL:http://viva.setagaya-hp.or.jp/event/%e6%95%a3%e9%ab%aa-8/
END:VEVENT
BEGIN:VEVENT
DTSTART;TZID=Asia/Tokyo:20260205T120000
DTEND;TZID=Asia/Tokyo:20260205T130000
DTSTAMP:20260421T185856
CREATED:20260126T012056Z
LAST-MODIFIED:20260126T012056Z
UID:12997-1770292800-1770296400@viva.setagaya-hp.or.jp
SUMMARY:本日のランチ
DESCRIPTION:ごはん\nサバのカレームニエル\nキャベツのエビ炒め\nイタリアンサラダ\nミネストローネ\nバニラババロア \n
URL:http://viva.setagaya-hp.or.jp/event/%e6%9c%ac%e6%97%a5%e3%81%ae%e3%83%a9%e3%83%b3%e3%83%81-2341/
END:VEVENT
BEGIN:VEVENT
DTSTART;TZID=Asia/Tokyo:20260205T140000
DTEND;TZID=Asia/Tokyo:20260205T150000
DTSTAMP:20260421T185856
CREATED:20250714T064132Z
LAST-MODIFIED:20250714T064132Z
UID:12366-1770300000-1770303600@viva.setagaya-hp.or.jp
SUMMARY:音楽会
DESCRIPTION:
URL:http://viva.setagaya-hp.or.jp/event/%e9%9f%b3%e6%a5%bd%e4%bc%9a-150/
END:VEVENT
END:VCALENDAR