BEGIN:VCALENDAR
VERSION:2.0
PRODID:-//ビバ・フローラ - ECPv4.6//NONSGML v1.0//EN
CALSCALE:GREGORIAN
METHOD:PUBLISH
X-WR-CALNAME:ビバ・フローラ
X-ORIGINAL-URL:http://viva.setagaya-hp.or.jp
X-WR-CALDESC:Events for ビバ・フローラ
BEGIN:VEVENT
DTSTART;TZID=Asia/Tokyo:20260209T120000
DTEND;TZID=Asia/Tokyo:20260209T130000
DTSTAMP:20260421T075907
CREATED:20260205T015536Z
LAST-MODIFIED:20260205T015536Z
UID:13012-1770638400-1770642000@viva.setagaya-hp.or.jp
SUMMARY:本日のランチ
DESCRIPTION:ごはん\n豚肉のおろしソース\n車麩の煮物\nさつまいもサラダ\n青菜の味噌汁\n抹茶ババロア \n
URL:http://viva.setagaya-hp.or.jp/event/%e6%9c%ac%e6%97%a5%e3%81%ae%e3%83%a9%e3%83%b3%e3%83%81-2345/
END:VEVENT
BEGIN:VEVENT
DTSTART;TZID=Asia/Tokyo:20260209T140000
DTEND;TZID=Asia/Tokyo:20260209T150000
DTSTAMP:20260421T075907
CREATED:20250714T063641Z
LAST-MODIFIED:20250714T063641Z
UID:12353-1770645600-1770649200@viva.setagaya-hp.or.jp
SUMMARY:書道教室
DESCRIPTION:
URL:http://viva.setagaya-hp.or.jp/event/%e6%9b%b8%e9%81%93%e6%95%99%e5%ae%a4-457/
END:VEVENT
END:VCALENDAR