BEGIN:VCALENDAR
VERSION:2.0
PRODID:-//ビバ・フローラ - ECPv4.6//NONSGML v1.0//EN
CALSCALE:GREGORIAN
METHOD:PUBLISH
X-WR-CALNAME:ビバ・フローラ
X-ORIGINAL-URL:http://viva.setagaya-hp.or.jp
X-WR-CALDESC:Events for ビバ・フローラ
BEGIN:VEVENT
DTSTART;VALUE=DATE:20260211
DTEND;VALUE=DATE:20260211
DTSTAMP:20260421T042216
CREATED:20250607T042523Z
LAST-MODIFIED:20250607T042523Z
UID:12198-1770768000-1770854399@viva.setagaya-hp.or.jp
SUMMARY:建国記念の日
DESCRIPTION:
URL:http://viva.setagaya-hp.or.jp/event/%e5%bb%ba%e5%9b%bd%e8%a8%98%e5%bf%b5%e3%81%ae%e6%97%a5-10/
END:VEVENT
BEGIN:VEVENT
DTSTART;TZID=Asia/Tokyo:20260211T120000
DTEND;TZID=Asia/Tokyo:20260211T130000
DTSTAMP:20260421T042216
CREATED:20260205T015632Z
LAST-MODIFIED:20260205T015632Z
UID:13016-1770811200-1770814800@viva.setagaya-hp.or.jp
SUMMARY:本日のランチ
DESCRIPTION:ごはん\n鶏肉となすの味噌炒め\nかぼちゃの含め煮\n大根サラダ\n麩のすまし汁\nストロベリーゼリー \n
URL:http://viva.setagaya-hp.or.jp/event/%e6%9c%ac%e6%97%a5%e3%81%ae%e3%83%a9%e3%83%b3%e3%83%81-2347/
END:VEVENT
END:VCALENDAR