BEGIN:VCALENDAR
VERSION:2.0
PRODID:-//ビバ・フローラ - ECPv4.6//NONSGML v1.0//EN
CALSCALE:GREGORIAN
METHOD:PUBLISH
X-WR-CALNAME:ビバ・フローラ
X-ORIGINAL-URL:http://viva.setagaya-hp.or.jp
X-WR-CALDESC:Events for ビバ・フローラ
BEGIN:VEVENT
DTSTART;TZID=Asia/Tokyo:20260212T120000
DTEND;TZID=Asia/Tokyo:20260212T130000
DTSTAMP:20260421T024506
CREATED:20260205T015700Z
LAST-MODIFIED:20260205T015700Z
UID:13018-1770897600-1770901200@viva.setagaya-hp.or.jp
SUMMARY:本日のランチ
DESCRIPTION:パン\nミートローフ\nチーズサラダ\nそら豆のスープ\nヨーグルトババロア \n
URL:http://viva.setagaya-hp.or.jp/event/%e6%9c%ac%e6%97%a5%e3%81%ae%e3%83%a9%e3%83%b3%e3%83%81-2348/
END:VEVENT
BEGIN:VEVENT
DTSTART;TZID=Asia/Tokyo:20260212T140000
DTEND;TZID=Asia/Tokyo:20260212T150000
DTSTAMP:20260421T024506
CREATED:20250717T043335Z
LAST-MODIFIED:20250717T043335Z
UID:12433-1770904800-1770908400@viva.setagaya-hp.or.jp
SUMMARY:アニマルセラピー
DESCRIPTION:
URL:http://viva.setagaya-hp.or.jp/event/%e3%82%a2%e3%83%8b%e3%83%9e%e3%83%ab%e3%82%bb%e3%83%a9%e3%83%94%e3%83%bc/
END:VEVENT
END:VCALENDAR