BEGIN:VCALENDAR
VERSION:2.0
PRODID:-//ビバ・フローラ - ECPv4.6//NONSGML v1.0//EN
CALSCALE:GREGORIAN
METHOD:PUBLISH
X-WR-CALNAME:ビバ・フローラ
X-ORIGINAL-URL:http://viva.setagaya-hp.or.jp
X-WR-CALDESC:Events for ビバ・フローラ
BEGIN:VEVENT
DTSTART;TZID=Asia/Tokyo:20260216T120000
DTEND;TZID=Asia/Tokyo:20260216T130000
DTSTAMP:20260420T202317
CREATED:20260212T004049Z
LAST-MODIFIED:20260212T004049Z
UID:13028-1771243200-1771246800@viva.setagaya-hp.or.jp
SUMMARY:本日のランチ
DESCRIPTION:炊き込みごはん\nサバの塩焼き\nかぶのそぼろ煮\n温野菜サラダ\n麩のすまし汁\nマロンババロア \n
URL:http://viva.setagaya-hp.or.jp/event/%e6%9c%ac%e6%97%a5%e3%81%ae%e3%83%a9%e3%83%b3%e3%83%81-2352/
END:VEVENT
BEGIN:VEVENT
DTSTART;TZID=Asia/Tokyo:20260216T140000
DTEND;TZID=Asia/Tokyo:20260216T150000
DTSTAMP:20260420T202317
CREATED:20250714T063711Z
LAST-MODIFIED:20250714T063711Z
UID:12355-1771250400-1771254000@viva.setagaya-hp.or.jp
SUMMARY:書道教室
DESCRIPTION:
URL:http://viva.setagaya-hp.or.jp/event/%e6%9b%b8%e9%81%93%e6%95%99%e5%ae%a4-458/
END:VEVENT
END:VCALENDAR