BEGIN:VCALENDAR
VERSION:2.0
PRODID:-//ビバ・フローラ - ECPv4.6//NONSGML v1.0//EN
CALSCALE:GREGORIAN
METHOD:PUBLISH
X-WR-CALNAME:ビバ・フローラ
X-ORIGINAL-URL:http://viva.setagaya-hp.or.jp
X-WR-CALDESC:Events for ビバ・フローラ
BEGIN:VEVENT
DTSTART;TZID=Asia/Tokyo:20260219T093000
DTEND;TZID=Asia/Tokyo:20260219T130000
DTSTAMP:20260420T155341
CREATED:20250714T064036Z
LAST-MODIFIED:20250714T064223Z
UID:12363-1771493400-1771506000@viva.setagaya-hp.or.jp
SUMMARY:散髪✂
DESCRIPTION:
URL:http://viva.setagaya-hp.or.jp/event/%e6%95%a3%e9%ab%aa-9/
END:VEVENT
BEGIN:VEVENT
DTSTART;TZID=Asia/Tokyo:20260219T120000
DTEND;TZID=Asia/Tokyo:20260219T130000
DTSTAMP:20260420T155341
CREATED:20260212T004915Z
LAST-MODIFIED:20260212T004915Z
UID:13034-1771502400-1771506000@viva.setagaya-hp.or.jp
SUMMARY:本日のランチ
DESCRIPTION:ごはん\nチキンカツ\n焼きビーフン\n大根とわかめのサラダ\n具だくさん汁\nいちごゼリー \n
URL:http://viva.setagaya-hp.or.jp/event/%e6%9c%ac%e6%97%a5%e3%81%ae%e3%83%a9%e3%83%b3%e3%83%81-2355/
END:VEVENT
BEGIN:VEVENT
DTSTART;TZID=Asia/Tokyo:20260219T140000
DTEND;TZID=Asia/Tokyo:20260219T150000
DTSTAMP:20260420T155341
CREATED:20250714T064355Z
LAST-MODIFIED:20250714T064355Z
UID:12368-1771509600-1771513200@viva.setagaya-hp.or.jp
SUMMARY:音楽会
DESCRIPTION:
URL:http://viva.setagaya-hp.or.jp/event/%e9%9f%b3%e6%a5%bd%e4%bc%9a-151/
END:VEVENT
END:VCALENDAR