BEGIN:VCALENDAR
VERSION:2.0
PRODID:-//ビバ・フローラ - ECPv4.6//NONSGML v1.0//EN
CALSCALE:GREGORIAN
METHOD:PUBLISH
X-WR-CALNAME:ビバ・フローラ
X-ORIGINAL-URL:http://viva.setagaya-hp.or.jp
X-WR-CALDESC:Events for ビバ・フローラ
BEGIN:VEVENT
DTSTART;VALUE=DATE:20260223
DTEND;VALUE=DATE:20260223
DTSTAMP:20260420T050910
CREATED:20250607T042648Z
LAST-MODIFIED:20250607T042648Z
UID:12200-1771804800-1771891199@viva.setagaya-hp.or.jp
SUMMARY:天皇誕生日
DESCRIPTION:
URL:http://viva.setagaya-hp.or.jp/event/%e5%a4%a9%e7%9a%87%e8%aa%95%e7%94%9f%e6%97%a5-10/
END:VEVENT
BEGIN:VEVENT
DTSTART;TZID=Asia/Tokyo:20260223T120000
DTEND;TZID=Asia/Tokyo:20260223T130000
DTSTAMP:20260420T050910
CREATED:20260219T060052Z
LAST-MODIFIED:20260219T060052Z
UID:13045-1771848000-1771851600@viva.setagaya-hp.or.jp
SUMMARY:本日のランチ
DESCRIPTION:エビピラフ\n洋風ロールキャベツ\nほうれん草サラダ\nミネストローネ\nいちごババロア \n
URL:http://viva.setagaya-hp.or.jp/event/%e6%9c%ac%e6%97%a5%e3%81%ae%e3%83%a9%e3%83%b3%e3%83%81-2359/
END:VEVENT
END:VCALENDAR