BEGIN:VCALENDAR
VERSION:2.0
PRODID:-//ビバ・フローラ - ECPv4.6//NONSGML v1.0//EN
CALSCALE:GREGORIAN
METHOD:PUBLISH
X-WR-CALNAME:ビバ・フローラ
X-ORIGINAL-URL:http://viva.setagaya-hp.or.jp
X-WR-CALDESC:Events for ビバ・フローラ
BEGIN:VEVENT
DTSTART;TZID=Asia/Tokyo:20260226T120000
DTEND;TZID=Asia/Tokyo:20260226T130000
DTSTAMP:20260420T003947
CREATED:20260219T060230Z
LAST-MODIFIED:20260219T060230Z
UID:13051-1772107200-1772110800@viva.setagaya-hp.or.jp
SUMMARY:スペシャルランチ
DESCRIPTION:たけのこごはん\nかぶら蒸し\n山菜の天ぷら\n菜の花とほたるいかの酢味噌和え\nはまぐりのお吸い物\nかぼちゃようかん \n
URL:http://viva.setagaya-hp.or.jp/event/%e3%82%b9%e3%83%9a%e3%82%b7%e3%83%a3%e3%83%ab%e3%83%a9%e3%83%b3%e3%83%81-61/
END:VEVENT
BEGIN:VEVENT
DTSTART;TZID=Asia/Tokyo:20260226T140000
DTEND;TZID=Asia/Tokyo:20260226T150000
DTSTAMP:20260420T003947
CREATED:20250714T064421Z
LAST-MODIFIED:20250714T064421Z
UID:12370-1772114400-1772118000@viva.setagaya-hp.or.jp
SUMMARY:音楽会
DESCRIPTION:
URL:http://viva.setagaya-hp.or.jp/event/%e9%9f%b3%e6%a5%bd%e4%bc%9a-152/
END:VEVENT
END:VCALENDAR