BEGIN:VCALENDAR
VERSION:2.0
PRODID:-//ビバ・フローラ - ECPv4.6//NONSGML v1.0//EN
CALSCALE:GREGORIAN
METHOD:PUBLISH
X-WR-CALNAME:ビバ・フローラ
X-ORIGINAL-URL:http://viva.setagaya-hp.or.jp
X-WR-CALDESC:Events for ビバ・フローラ
BEGIN:VEVENT
DTSTART;TZID=Asia/Tokyo:20260302T120000
DTEND;TZID=Asia/Tokyo:20260302T130000
DTSTAMP:20260419T171648
CREATED:20260225T050641Z
LAST-MODIFIED:20260225T050641Z
UID:13073-1772452800-1772456400@viva.setagaya-hp.or.jp
SUMMARY:本日のランチ
DESCRIPTION:ごはん\n鶏肉のきのこあん\n若竹煮\n和風ツナサラダ\nなるとのすまし汁\n杏ゼリー \n
URL:http://viva.setagaya-hp.or.jp/event/%e6%9c%ac%e6%97%a5%e3%81%ae%e3%83%a9%e3%83%b3%e3%83%81-2365/
END:VEVENT
BEGIN:VEVENT
DTSTART;TZID=Asia/Tokyo:20260302T140000
DTEND;TZID=Asia/Tokyo:20260302T150000
DTSTAMP:20260419T171648
CREATED:20250714T065403Z
LAST-MODIFIED:20250714T065403Z
UID:12380-1772460000-1772463600@viva.setagaya-hp.or.jp
SUMMARY:書道教室
DESCRIPTION:
URL:http://viva.setagaya-hp.or.jp/event/%e6%9b%b8%e9%81%93%e6%95%99%e5%ae%a4-459/
END:VEVENT
END:VCALENDAR