BEGIN:VCALENDAR
VERSION:2.0
PRODID:-//ビバ・フローラ - ECPv4.6//NONSGML v1.0//EN
CALSCALE:GREGORIAN
METHOD:PUBLISH
X-WR-CALNAME:ビバ・フローラ
X-ORIGINAL-URL:http://viva.setagaya-hp.or.jp
X-WR-CALDESC:Events for ビバ・フローラ
BEGIN:VEVENT
DTSTART;VALUE=DATE:20260303
DTEND;VALUE=DATE:20260303
DTSTAMP:20260419T154626
CREATED:20250607T045930Z
LAST-MODIFIED:20250607T045930Z
UID:12232-1772496000-1772582399@viva.setagaya-hp.or.jp
SUMMARY:ひなまつり
DESCRIPTION:
URL:http://viva.setagaya-hp.or.jp/event/%e3%81%b2%e3%81%aa%e3%81%be%e3%81%a4%e3%82%8a/
END:VEVENT
BEGIN:VEVENT
DTSTART;TZID=Asia/Tokyo:20260303T120000
DTEND;TZID=Asia/Tokyo:20260303T130000
DTSTAMP:20260419T154626
CREATED:20260225T050717Z
LAST-MODIFIED:20260225T050717Z
UID:13075-1772539200-1772542800@viva.setagaya-hp.or.jp
SUMMARY:本日のランチ
DESCRIPTION:ちらし寿司\nふきとがんもの煮物\nほうれん草とささみのおひたし\n潮汁\nいちごババロア \n
URL:http://viva.setagaya-hp.or.jp/event/%e6%9c%ac%e6%97%a5%e3%81%ae%e3%83%a9%e3%83%b3%e3%83%81-2366/
END:VEVENT
END:VCALENDAR