BEGIN:VCALENDAR
VERSION:2.0
PRODID:-//ビバ・フローラ - ECPv4.6//NONSGML v1.0//EN
CALSCALE:GREGORIAN
METHOD:PUBLISH
X-WR-CALNAME:ビバ・フローラ
X-ORIGINAL-URL:http://viva.setagaya-hp.or.jp
X-WR-CALDESC:Events for ビバ・フローラ
BEGIN:VEVENT
DTSTART;TZID=Asia/Tokyo:20260305T093000
DTEND;TZID=Asia/Tokyo:20260305T130000
DTSTAMP:20260419T123249
CREATED:20250714T071736Z
LAST-MODIFIED:20250714T071745Z
UID:12399-1772703000-1772715600@viva.setagaya-hp.or.jp
SUMMARY:散髪✂
DESCRIPTION:
URL:http://viva.setagaya-hp.or.jp/event/%e6%95%a3%e9%ab%aa-10/
END:VEVENT
BEGIN:VEVENT
DTSTART;TZID=Asia/Tokyo:20260305T120000
DTEND;TZID=Asia/Tokyo:20260305T130000
DTSTAMP:20260419T123249
CREATED:20260225T050815Z
LAST-MODIFIED:20260225T050815Z
UID:13079-1772712000-1772715600@viva.setagaya-hp.or.jp
SUMMARY:本日のランチ
DESCRIPTION:さつまいもライス\nタンドリーチキン\nかぶとベーコンの白だし煮\nカリフラワーとわかめサラダ\nコンソメスープ\n抹茶ババロア \n
URL:http://viva.setagaya-hp.or.jp/event/%e6%9c%ac%e6%97%a5%e3%81%ae%e3%83%a9%e3%83%b3%e3%83%81-2368/
END:VEVENT
BEGIN:VEVENT
DTSTART;TZID=Asia/Tokyo:20260305T140000
DTEND;TZID=Asia/Tokyo:20260305T150000
DTSTAMP:20260419T123249
CREATED:20250714T071447Z
LAST-MODIFIED:20250714T071447Z
UID:12393-1772719200-1772722800@viva.setagaya-hp.or.jp
SUMMARY:音楽会
DESCRIPTION:
URL:http://viva.setagaya-hp.or.jp/event/%e9%9f%b3%e6%a5%bd%e4%bc%9a-148/
END:VEVENT
END:VCALENDAR