BEGIN:VCALENDAR
VERSION:2.0
PRODID:-//ビバ・フローラ - ECPv4.6//NONSGML v1.0//EN
CALSCALE:GREGORIAN
METHOD:PUBLISH
X-WR-CALNAME:ビバ・フローラ
X-ORIGINAL-URL:http://viva.setagaya-hp.or.jp
X-WR-CALDESC:Events for ビバ・フローラ
BEGIN:VEVENT
DTSTART;TZID=Asia/Tokyo:20260326T120000
DTEND;TZID=Asia/Tokyo:20260326T130000
DTSTAMP:20260424T121705
CREATED:20260318T015650Z
LAST-MODIFIED:20260318T015650Z
UID:13346-1774526400-1774530000@viva.setagaya-hp.or.jp
SUMMARY:本日のランチ
DESCRIPTION:ごはん\n鶏肉のトマトソース\n切り干し大根の炒め煮\n菜の花の辛子和え\n豆腐の味噌汁\nヨーグルトババロア \n
URL:http://viva.setagaya-hp.or.jp/event/%e6%9c%ac%e6%97%a5%e3%81%ae%e3%83%a9%e3%83%b3%e3%83%81-2389/
END:VEVENT
BEGIN:VEVENT
DTSTART;TZID=Asia/Tokyo:20260326T140000
DTEND;TZID=Asia/Tokyo:20260326T150000
DTSTAMP:20260424T121705
CREATED:20250714T071703Z
LAST-MODIFIED:20250714T071703Z
UID:12397-1774533600-1774537200@viva.setagaya-hp.or.jp
SUMMARY:音楽会
DESCRIPTION:
URL:http://viva.setagaya-hp.or.jp/event/%e9%9f%b3%e6%a5%bd%e4%bc%9a-154/
END:VEVENT
END:VCALENDAR