BEGIN:VCALENDAR
VERSION:2.0
PRODID:-//ビバ・フローラ - ECPv4.6//NONSGML v1.0//EN
CALSCALE:GREGORIAN
METHOD:PUBLISH
X-WR-CALNAME:ビバ・フローラ
X-ORIGINAL-URL:http://viva.setagaya-hp.or.jp
X-WR-CALDESC:Events for ビバ・フローラ
BEGIN:VEVENT
DTSTART;TZID=Asia/Tokyo:20260331T120000
DTEND;TZID=Asia/Tokyo:20260331T130000
DTSTAMP:20260424T194207
CREATED:20260221T054720Z
LAST-MODIFIED:20260326T060025Z
UID:13059-1774958400-1774962000@viva.setagaya-hp.or.jp
SUMMARY:スペシャルランチ
DESCRIPTION:パン\n金目鯛のポッシェ\n新じゃがとペコロスのジャーマン風\n桜エビと春キャベツのキッシュ風\nグリル野菜のサラダ\nアスパラガスのポタージュ\n桜のチーズムース \n
URL:http://viva.setagaya-hp.or.jp/event/%e3%83%95%e3%83%ad%e3%82%a2%e3%83%ac%e3%82%af-34/
END:VEVENT
END:VCALENDAR