BEGIN:VCALENDAR
VERSION:2.0
PRODID:-//ビバ・フローラ - ECPv4.6//NONSGML v1.0//EN
CALSCALE:GREGORIAN
METHOD:PUBLISH
X-WR-CALNAME:ビバ・フローラ
X-ORIGINAL-URL:http://viva.setagaya-hp.or.jp
X-WR-CALDESC:Events for ビバ・フローラ
BEGIN:VEVENT
DTSTART;TZID=Asia/Tokyo:20260401T120000
DTEND;TZID=Asia/Tokyo:20260401T130000
DTSTAMP:20260424T205659
CREATED:20260326T060048Z
LAST-MODIFIED:20260326T060048Z
UID:13375-1775044800-1775048400@viva.setagaya-hp.or.jp
SUMMARY:本日のランチ
DESCRIPTION:ごはん\n天ぷら\nたけのことちくわの煮物\nかぶの酢の物\n麩のすまし汁\n抹茶ババロア \n
URL:http://viva.setagaya-hp.or.jp/event/%e6%9c%ac%e6%97%a5%e3%81%ae%e3%83%a9%e3%83%b3%e3%83%81-2394/
END:VEVENT
END:VCALENDAR