BEGIN:VCALENDAR
VERSION:2.0
PRODID:-//ビバ・フローラ - ECPv4.6//NONSGML v1.0//EN
CALSCALE:GREGORIAN
METHOD:PUBLISH
X-WR-CALNAME:ビバ・フローラ
X-ORIGINAL-URL:http://viva.setagaya-hp.or.jp
X-WR-CALDESC:Events for ビバ・フローラ
BEGIN:VEVENT
DTSTART;TZID=Asia/Tokyo:20260406T120000
DTEND;TZID=Asia/Tokyo:20260406T130000
DTSTAMP:20260425T040013
CREATED:20260401T053730Z
LAST-MODIFIED:20260401T054142Z
UID:13386-1775476800-1775480400@viva.setagaya-hp.or.jp
SUMMARY:本日のランチ
DESCRIPTION:ごはん\nメンチカツ\nなすとピーマンのしぎ煮\n和風ツナサラダ\n小松菜の味噌汁\n青りんごゼリー \n
URL:http://viva.setagaya-hp.or.jp/event/%e6%9c%ac%e6%97%a5%e3%81%ae%e3%83%a9%e3%83%b3%e3%83%81-2399/
END:VEVENT
BEGIN:VEVENT
DTSTART;TZID=Asia/Tokyo:20260406T140000
DTEND;TZID=Asia/Tokyo:20260406T150000
DTSTAMP:20260425T040013
CREATED:20250717T042727Z
LAST-MODIFIED:20250717T042727Z
UID:12422-1775484000-1775487600@viva.setagaya-hp.or.jp
SUMMARY:書道教室
DESCRIPTION:
URL:http://viva.setagaya-hp.or.jp/event/%e6%9b%b8%e9%81%93%e6%95%99%e5%ae%a4-464/
END:VEVENT
END:VCALENDAR