BEGIN:VCALENDAR
VERSION:2.0
PRODID:-//ビバ・フローラ - ECPv4.6//NONSGML v1.0//EN
CALSCALE:GREGORIAN
METHOD:PUBLISH
X-WR-CALNAME:ビバ・フローラ
X-ORIGINAL-URL:http://viva.setagaya-hp.or.jp
X-WR-CALDESC:Events for ビバ・フローラ
BEGIN:VEVENT
DTSTART;TZID=Asia/Tokyo:20260416T093000
DTEND;TZID=Asia/Tokyo:20260416T130000
DTSTAMP:20260425T204209
CREATED:20250717T051709Z
LAST-MODIFIED:20250717T051719Z
UID:12448-1776331800-1776344400@viva.setagaya-hp.or.jp
SUMMARY:散髪✂
DESCRIPTION:
URL:http://viva.setagaya-hp.or.jp/event/%e6%95%a3%e9%ab%aa-13/
END:VEVENT
BEGIN:VEVENT
DTSTART;TZID=Asia/Tokyo:20260416T120000
DTEND;TZID=Asia/Tokyo:20260416T130000
DTSTAMP:20260425T204209
CREATED:20260408T040807Z
LAST-MODIFIED:20260408T040807Z
UID:13411-1776340800-1776344400@viva.setagaya-hp.or.jp
SUMMARY:本日のランチ
DESCRIPTION:パン\nミートローフ\nチーズサラダ\nそら豆のスープ\nかぼちゃババロア \n
URL:http://viva.setagaya-hp.or.jp/event/%e6%9c%ac%e6%97%a5%e3%81%ae%e3%83%a9%e3%83%b3%e3%83%81-2409/
END:VEVENT
BEGIN:VEVENT
DTSTART;TZID=Asia/Tokyo:20260416T140000
DTEND;TZID=Asia/Tokyo:20260416T150000
DTSTAMP:20260425T204209
CREATED:20250717T043705Z
LAST-MODIFIED:20250717T043811Z
UID:12439-1776348000-1776351600@viva.setagaya-hp.or.jp
SUMMARY:音楽会
DESCRIPTION:
URL:http://viva.setagaya-hp.or.jp/event/%e9%9f%b3%e6%a5%bd%e4%bc%9a-156/
END:VEVENT
END:VCALENDAR