BEGIN:VCALENDAR
VERSION:2.0
PRODID:-//ビバ・フローラ - ECPv4.6//NONSGML v1.0//EN
CALSCALE:GREGORIAN
METHOD:PUBLISH
X-WR-CALNAME:ビバ・フローラ
X-ORIGINAL-URL:http://viva.setagaya-hp.or.jp
X-WR-CALDESC:Events for ビバ・フローラ
BEGIN:VEVENT
DTSTART;TZID=Asia/Tokyo:20260417T120000
DTEND;TZID=Asia/Tokyo:20260417T130000
DTSTAMP:20260425T221144
CREATED:20260408T040835Z
LAST-MODIFIED:20260408T040835Z
UID:13413-1776427200-1776430800@viva.setagaya-hp.or.jp
SUMMARY:本日のランチ
DESCRIPTION:わかめごはん\nカジキの照り焼き\nキャベツと厚揚げの煮蒸し\nいんげんツナサラダ\nとろろ昆布汁\n杏ゼリー \n
URL:http://viva.setagaya-hp.or.jp/event/%e6%9c%ac%e6%97%a5%e3%81%ae%e3%83%a9%e3%83%b3%e3%83%81-2410/
END:VEVENT
BEGIN:VEVENT
DTSTART;TZID=Asia/Tokyo:20260417T140000
DTEND;TZID=Asia/Tokyo:20260417T150000
DTSTAMP:20260425T221144
CREATED:20260325T044505Z
LAST-MODIFIED:20260325T044505Z
UID:13362-1776434400-1776438000@viva.setagaya-hp.or.jp
SUMMARY:リコーダーの会
DESCRIPTION:
URL:http://viva.setagaya-hp.or.jp/event/%e3%83%aa%e3%82%b3%e3%83%bc%e3%83%80%e3%83%bc%e3%81%ae%e4%bc%9a-2/
END:VEVENT
END:VCALENDAR